BEGIN:VCALENDAR
VERSION:2.0
PRODID:-//IPV - ECPv6.15.12.2//NONSGML v1.0//EN
CALSCALE:GREGORIAN
METHOD:PUBLISH
X-WR-CALNAME:IPV
X-ORIGINAL-URL:https://ipv.pt
X-WR-CALDESC:Eventos para IPV
REFRESH-INTERVAL;VALUE=DURATION:PT1H
X-Robots-Tag:noindex
X-PUBLISHED-TTL:PT1H
BEGIN:VTIMEZONE
TZID:UTC
BEGIN:STANDARD
TZOFFSETFROM:+0000
TZOFFSETTO:+0000
TZNAME:UTC
DTSTART:20250101T000000
END:STANDARD
END:VTIMEZONE
BEGIN:VEVENT
DTSTART;TZID=UTC:20260302T080000
DTEND;TZID=UTC:20260526T170000
DTSTAMP:20260421T024859
CREATED:20260129T154637Z
LAST-MODIFIED:20260129T154637Z
UID:87841-1772438400-1779814800@ipv.pt
SUMMARY:Formação 3I.T do Ensino - Inovação\, Inteligência e Interação na Formação e na Docência
DESCRIPTION:
URL:https://ipv.pt/evento/formacao-3i-t-do-ensino-inovacao-inteligencia-e-interacao-na-formacao-e-na-docencia/
ATTACH;FMTTYPE=image/png:https://ipv.pt/wp-content/uploads/2026/01/1Cartaz-_-3IT.png
END:VEVENT
BEGIN:VEVENT
DTSTART;TZID=UTC:20260413T080000
DTEND;TZID=UTC:20260424T170000
DTSTAMP:20260421T024859
CREATED:20260220T111700Z
LAST-MODIFIED:20260220T111700Z
UID:88753-1776067200-1777050000@ipv.pt
SUMMARY:Fases Finais dos Campeonatos Nacionais Universitários – Viseu 2026
DESCRIPTION:As Fases Finais dos Campeonatos Nacionais Universitários – Viseu 2026\, são o ponto mais alto da competição nacional universitária em Portugal\, organizadas pela Federação Académica do Desporto Universitário (FADU Portugal)\, com o apoio da AAIPV (Associação Académica do Instituto Politécnico de Viseu)\, IPV (Instituto Politécnico de Viseu) e CMV (Câmara Municipal de Viseu)\, em Viseu\, de 13 a 24 de abril de 2026.\n\nO evento vai reunir as melhores equipas de várias instituições de ensino superior do país\, que se qualificaram através das fases regionais\, culminando no maior espetáculo multidesportivo em Portugal\, com 5 modalidades\, entre elas o Andebol\, Basquetebol\, Futebol\, Futsal e Voleibol. \nInformação Geral\n9 Campeonatos\nAndebol Masculino\nAndebol Feminino\nBasquetebol Masculino\nBasquetebol Feminino\nFutebol de 11 Masculino\nFutsal Masculino\nFutsal Feminino\nVoleibol Masculino\nVoleibol Feminino \n6 Instalações Desportivas\nPavilhão Multiusos do IPV\nPavilhão Cidade de Viseu\nPavilhão Multiusos de Cavernães\nPavilhão Desportivo do Fontelo\nCampo 1.º de Maio\nCampo de Futebol do Centro Leões da Beira \n5 Modalidades\nAndebol\nBasquetebol\nFutebol de 11\nFutsal\nVoleibol
URL:https://ipv.pt/evento/fases-finais-dos-campeonatos-nacionais-universitarios-viseu-2026/
LOCATION:Viseu\, Av. Cor. José Maria Vale de Andrade Campus Politécnico\, Viseu\, 3500-510\, Portugal
ATTACH;FMTTYPE=image/jpeg:https://ipv.pt/wp-content/uploads/2026/02/MODELO_VISEU1-1-scaled.jpg
END:VEVENT
BEGIN:VEVENT
DTSTART;TZID=UTC:20260421T080000
DTEND;TZID=UTC:20260421T170000
DTSTAMP:20260421T024859
CREATED:20260409T090751Z
LAST-MODIFIED:20260409T090751Z
UID:90003-1776758400-1776790800@ipv.pt
SUMMARY:Seminário “Intervenção Social pelas Artes: Olhares Partilhados”
DESCRIPTION:No âmbito do projeto “Programação e Intervenção Social pelas Artes no Ensino Superior”\, desenvolvido pela ESTGL e pela ESEV do Instituto Politécnico de Viseu\, em parceria com os Institutos Politécnicos de Bragança e Leiria\, terá lugar um momento público de partilha e reflexão que cruza arte\, educação e intervenção social. \nAo longo do ano letivo 2025/2026\, os estudantes foram desafiados a aplicar a metodologia Photovoice\, construindo narrativas visuais sobre inclusão e exclusão social\, a partir das suas próprias experiências e contextos. \nO resultado deste trabalho será apresentado no dia 21 de abril\, através de dois momentos centrais: \nExposição de Fotografia \nUma mostra das imagens e narrativas produzidas pelos estudantes\, que dão visibilidade a realidades muitas vezes invisíveis e revelam olhares críticos sobre a sociedade. \nSeminário “Intervenção Social pelas Artes: Olhares Partilhados” \nUm espaço de reflexão que reúne especialistas\, docentes e estudantes\, promovendo o debate sobre os desafios sociais contemporâneos e o papel transformador das artes. \nMais do que imagens\, estas fotografias são vozes\, são histórias\, são olhares que nos interpelam e que nos convidam a pensar o mundo que habitamos e queremos transformar. \nESTGL e Teatro Ribeiro Conceição\, Lamego \n21 de abril || 14h00 \nA participação é gratuita\, mediante inscrição prévia: https://forms.cloud.microsoft/e/wPNRXkM3nt
URL:https://ipv.pt/evento/seminario-intervencao-social-pelas-artes-olhares-partilhados/
ATTACH;FMTTYPE=image/jpeg:https://ipv.pt/wp-content/uploads/2026/04/2.seminario-ARTES-programa.jpg
END:VEVENT
END:VCALENDAR